BEGIN:VCALENDAR
VERSION:2.0
PRODID:-//sagewoodprep - ECPv6.15.17.1//NONSGML v1.0//EN
CALSCALE:GREGORIAN
METHOD:PUBLISH
X-WR-CALNAME:sagewoodprep
X-ORIGINAL-URL:https://sagewoodprep.co.za
X-WR-CALDESC:Events for sagewoodprep
REFRESH-INTERVAL;VALUE=DURATION:PT1H
X-Robots-Tag:noindex
X-PUBLISHED-TTL:PT1H
BEGIN:VTIMEZONE
TZID:America/Toronto
BEGIN:DAYLIGHT
TZOFFSETFROM:-0500
TZOFFSETTO:-0400
TZNAME:EDT
DTSTART:20180311T070000
END:DAYLIGHT
BEGIN:STANDARD
TZOFFSETFROM:-0400
TZOFFSETTO:-0500
TZNAME:EST
DTSTART:20181104T060000
END:STANDARD
BEGIN:DAYLIGHT
TZOFFSETFROM:-0500
TZOFFSETTO:-0400
TZNAME:EDT
DTSTART:20190310T070000
END:DAYLIGHT
BEGIN:STANDARD
TZOFFSETFROM:-0400
TZOFFSETTO:-0500
TZNAME:EST
DTSTART:20191103T060000
END:STANDARD
BEGIN:DAYLIGHT
TZOFFSETFROM:-0500
TZOFFSETTO:-0400
TZNAME:EDT
DTSTART:20200308T070000
END:DAYLIGHT
BEGIN:STANDARD
TZOFFSETFROM:-0400
TZOFFSETTO:-0500
TZNAME:EST
DTSTART:20201101T060000
END:STANDARD
BEGIN:DAYLIGHT
TZOFFSETFROM:-0500
TZOFFSETTO:-0400
TZNAME:EDT
DTSTART:20210314T070000
END:DAYLIGHT
BEGIN:STANDARD
TZOFFSETFROM:-0400
TZOFFSETTO:-0500
TZNAME:EST
DTSTART:20211107T060000
END:STANDARD
END:VTIMEZONE
BEGIN:VEVENT
DTSTART;VALUE=DATE:20201021
DTEND;VALUE=DATE:20201022
DTSTAMP:20260423T213328
CREATED:20201007T065841Z
LAST-MODIFIED:20201007T065841Z
UID:1215-1603238400-1603324799@sagewoodprep.co.za
SUMMARY:Stationery Order Forms Handed Out
DESCRIPTION:
URL:https://sagewoodprep.co.za/event/stationery-order-forms-handed-out/
LOCATION:Sagewood
END:VEVENT
BEGIN:VEVENT
DTSTART;VALUE=DATE:20201009
DTEND;VALUE=DATE:20201010
DTSTAMP:20260423T213328
CREATED:20201007T065816Z
LAST-MODIFIED:20201007T065816Z
UID:1213-1602201600-1602287999@sagewoodprep.co.za
SUMMARY:Crazy Hair Day
DESCRIPTION:
URL:https://sagewoodprep.co.za/event/crazy-hair-day/
LOCATION:Sagewood
CATEGORIES:Events
END:VEVENT
BEGIN:VEVENT
DTSTART;TZID=America/Toronto:20201005T073000
DTEND;TZID=America/Toronto:20201005T133000
DTSTAMP:20260423T213328
CREATED:20201007T065737Z
LAST-MODIFIED:20201007T065737Z
UID:1211-1601883000-1601904600@sagewoodprep.co.za
SUMMARY:School Opens for 4th Term
DESCRIPTION:
URL:https://sagewoodprep.co.za/event/school-opens-for-4th-term-2/
LOCATION:Sagewood
END:VEVENT
BEGIN:VEVENT
DTSTART;VALUE=DATE:20200320
DTEND;VALUE=DATE:20200415
DTSTAMP:20260423T213328
CREATED:20200124T053228Z
LAST-MODIFIED:20200124T053228Z
UID:1202-1584662400-1586908799@sagewoodprep.co.za
SUMMARY:School Holidays
DESCRIPTION:
URL:https://sagewoodprep.co.za/event/school-holidays/
END:VEVENT
BEGIN:VEVENT
DTSTART;VALUE=DATE:20200227
DTEND;VALUE=DATE:20200228
DTSTAMP:20260423T213328
CREATED:20200124T053144Z
LAST-MODIFIED:20200124T053144Z
UID:1200-1582761600-1582847999@sagewoodprep.co.za
SUMMARY:Open Boys Cricket
DESCRIPTION:
URL:https://sagewoodprep.co.za/event/open-boys-cricket-2/
LOCATION:HCS
CATEGORIES:Sport
END:VEVENT
BEGIN:VEVENT
DTSTART;VALUE=DATE:20200224
DTEND;VALUE=DATE:20200225
DTSTAMP:20260423T213328
CREATED:20200124T053118Z
LAST-MODIFIED:20200124T053118Z
UID:1198-1582502400-1582588799@sagewoodprep.co.za
SUMMARY:U13 Girls Cricket Trials
DESCRIPTION:
URL:https://sagewoodprep.co.za/event/u13-girls-cricket-trials/
LOCATION:Felixton
CATEGORIES:Sport
END:VEVENT
BEGIN:VEVENT
DTSTART;VALUE=DATE:20200222
DTEND;VALUE=DATE:20200223
DTSTAMP:20260423T213328
CREATED:20200124T053041Z
LAST-MODIFIED:20200124T053041Z
UID:1195-1582329600-1582415999@sagewoodprep.co.za
SUMMARY:EJS Chess Tournament
DESCRIPTION:
URL:https://sagewoodprep.co.za/event/ejs-chess-tournament/
LOCATION:EJS
CATEGORIES:Sport
END:VEVENT
BEGIN:VEVENT
DTSTART;VALUE=DATE:20200220
DTEND;VALUE=DATE:20200221
DTSTAMP:20260423T213328
CREATED:20200124T053000Z
LAST-MODIFIED:20200124T053000Z
UID:1193-1582156800-1582243199@sagewoodprep.co.za
SUMMARY:8-a-side Mixed Ages Girls Cricket
DESCRIPTION:
URL:https://sagewoodprep.co.za/event/8-a-side-mixed-ages-girls-cricket/
LOCATION:Felixton
CATEGORIES:Sport
END:VEVENT
BEGIN:VEVENT
DTSTART;VALUE=DATE:20200214
DTEND;VALUE=DATE:20200218
DTSTAMP:20260423T213328
CREATED:20200124T052919Z
LAST-MODIFIED:20200124T052919Z
UID:1191-1581638400-1581983999@sagewoodprep.co.za
SUMMARY:Mid-term Break
DESCRIPTION:
URL:https://sagewoodprep.co.za/event/mid-term-break/
END:VEVENT
BEGIN:VEVENT
DTSTART;VALUE=DATE:20200213
DTEND;VALUE=DATE:20200214
DTSTAMP:20260423T213328
CREATED:20200124T052808Z
LAST-MODIFIED:20200124T052808Z
UID:1189-1581552000-1581638399@sagewoodprep.co.za
SUMMARY:Valentine's Civvies Day - R5 - Wear red\, pink\, white
DESCRIPTION:
URL:https://sagewoodprep.co.za/event/valentines-civvies-day-r5-wear-red-pink-white/
END:VEVENT
BEGIN:VEVENT
DTSTART;VALUE=DATE:20200211
DTEND;VALUE=DATE:20200212
DTSTAMP:20260423T213328
CREATED:20200124T052723Z
LAST-MODIFIED:20200124T052723Z
UID:1187-1581379200-1581465599@sagewoodprep.co.za
SUMMARY:U7/8/9 Boys & Girls Cricket
DESCRIPTION:
URL:https://sagewoodprep.co.za/event/u7-8-9-boys-girls-cricket/
LOCATION:Felixton
CATEGORIES:Sport
END:VEVENT
BEGIN:VEVENT
DTSTART;VALUE=DATE:20200208
DTEND;VALUE=DATE:20200209
DTSTAMP:20260423T213328
CREATED:20200124T052645Z
LAST-MODIFIED:20200124T052645Z
UID:1185-1581120000-1581206399@sagewoodprep.co.za
SUMMARY:6-a-side U11 Cricket
DESCRIPTION:
URL:https://sagewoodprep.co.za/event/6-a-side-u11-cricket/
LOCATION:Darnall
CATEGORIES:Sport
END:VEVENT
BEGIN:VEVENT
DTSTART;VALUE=DATE:20200207
DTEND;VALUE=DATE:20200208
DTSTAMP:20260423T213328
CREATED:20200124T052611Z
LAST-MODIFIED:20200124T052611Z
UID:1183-1581033600-1581119999@sagewoodprep.co.za
SUMMARY:2nd Round South Zone Trial
DESCRIPTION:
URL:https://sagewoodprep.co.za/event/2nd-round-south-zone-trial/
CATEGORIES:Sport
END:VEVENT
BEGIN:VEVENT
DTSTART;VALUE=DATE:20200206
DTEND;VALUE=DATE:20200207
DTSTAMP:20260423T213328
CREATED:20200124T052536Z
LAST-MODIFIED:20200124T052536Z
UID:1181-1580947200-1581033599@sagewoodprep.co.za
SUMMARY:Open Boys Cricket
DESCRIPTION:
URL:https://sagewoodprep.co.za/event/open-boys-cricket/
LOCATION:John Wesley
CATEGORIES:Sport
END:VEVENT
BEGIN:VEVENT
DTSTART;VALUE=DATE:20200204
DTEND;VALUE=DATE:20200205
DTSTAMP:20260423T213328
CREATED:20200124T052459Z
LAST-MODIFIED:20200124T052459Z
UID:1179-1580774400-1580860799@sagewoodprep.co.za
SUMMARY:U7/8/9 Cricket
DESCRIPTION:
URL:https://sagewoodprep.co.za/event/u7-8-9-cricket/
CATEGORIES:Sport
END:VEVENT
BEGIN:VEVENT
DTSTART;VALUE=DATE:20200201
DTEND;VALUE=DATE:20200202
DTSTAMP:20260423T213328
CREATED:20200124T052431Z
LAST-MODIFIED:20200124T052431Z
UID:1176-1580515200-1580601599@sagewoodprep.co.za
SUMMARY:MPS Chess Tournament
DESCRIPTION:
URL:https://sagewoodprep.co.za/event/mps-chess-tournament/
LOCATION:MPS
CATEGORIES:Sport
END:VEVENT
BEGIN:VEVENT
DTSTART;VALUE=DATE:20200127
DTEND;VALUE=DATE:20200129
DTSTAMP:20260423T213328
CREATED:20200124T052347Z
LAST-MODIFIED:20200124T052347Z
UID:1174-1580083200-1580255999@sagewoodprep.co.za
SUMMARY:South Zone Cricket Trials - Monday U11 & Tuesday U13
DESCRIPTION:
URL:https://sagewoodprep.co.za/event/south-zone-cricket-trials-monday-u11-tuesday-u13/
CATEGORIES:Sport
END:VEVENT
BEGIN:VEVENT
DTSTART;TZID=America/Toronto:20200121T180000
DTEND;TZID=America/Toronto:20200121T190000
DTSTAMP:20260423T213328
CREATED:20200124T052237Z
LAST-MODIFIED:20200124T052237Z
UID:1172-1579629600-1579633200@sagewoodprep.co.za
SUMMARY:Parent Information Evening
DESCRIPTION:
URL:https://sagewoodprep.co.za/event/parent-information-evening/
CATEGORIES:Parent's Evening
END:VEVENT
BEGIN:VEVENT
DTSTART;TZID=America/Toronto:20200118T073000
DTEND;TZID=America/Toronto:20200118T120000
DTSTAMP:20260423T213328
CREATED:20200124T052149Z
LAST-MODIFIED:20200124T052149Z
UID:1170-1579332600-1579348800@sagewoodprep.co.za
SUMMARY:Saturday school (grade 2-7)
DESCRIPTION:
URL:https://sagewoodprep.co.za/event/saturday-school-grade-2-7/
END:VEVENT
BEGIN:VEVENT
DTSTART;TZID=America/Toronto:20200115T073000
DTEND;TZID=America/Toronto:20200320T121000
DTSTAMP:20260423T213328
CREATED:20200124T052111Z
LAST-MODIFIED:20200124T052111Z
UID:1168-1579073400-1584706200@sagewoodprep.co.za
SUMMARY:School Begins for the year
DESCRIPTION:
URL:https://sagewoodprep.co.za/event/school-begins-for-the-year/
END:VEVENT
BEGIN:VEVENT
DTSTART;TZID=America/Toronto:20200108T090000
DTEND;TZID=America/Toronto:20200108T120000
DTSTAMP:20260423T213328
CREATED:20200124T051959Z
LAST-MODIFIED:20200124T051959Z
UID:1166-1578474000-1578484800@sagewoodprep.co.za
SUMMARY:School Office opens for the year
DESCRIPTION:
URL:https://sagewoodprep.co.za/event/school-office-opens-for-the-year/
END:VEVENT
BEGIN:VEVENT
DTSTART;VALUE=DATE:20191206
DTEND;VALUE=DATE:20191207
DTSTAMP:20260423T213328
CREATED:20191015T074710Z
LAST-MODIFIED:20191015T074710Z
UID:1139-1575590400-1575676799@sagewoodprep.co.za
SUMMARY:School Closes for teachers for the year
DESCRIPTION:
URL:https://sagewoodprep.co.za/event/school-closes-for-teachers-for-the-year/
END:VEVENT
BEGIN:VEVENT
DTSTART;TZID=America/Toronto:20191205T100000
DTEND;TZID=America/Toronto:20191205T100000
DTSTAMP:20260423T213328
CREATED:20191015T074551Z
LAST-MODIFIED:20191015T074551Z
UID:1137-1575540000-1575540000@sagewoodprep.co.za
SUMMARY:School Closes for the year
DESCRIPTION:
URL:https://sagewoodprep.co.za/event/school-closes-for-the-year/
END:VEVENT
BEGIN:VEVENT
DTSTART;VALUE=DATE:20191204
DTEND;VALUE=DATE:20191205
DTSTAMP:20260423T213328
CREATED:20191015T074508Z
LAST-MODIFIED:20191015T074508Z
UID:1135-1575417600-1575503999@sagewoodprep.co.za
SUMMARY:Class Parties
DESCRIPTION:
URL:https://sagewoodprep.co.za/event/class-parties/
END:VEVENT
BEGIN:VEVENT
DTSTART;TZID=America/Toronto:20191203T180000
DTEND;TZID=America/Toronto:20191203T210000
DTSTAMP:20260423T213328
CREATED:20191015T074444Z
LAST-MODIFIED:20191015T074444Z
UID:1133-1575396000-1575406800@sagewoodprep.co.za
SUMMARY:Prize giving - Children to there by 5:30pm
DESCRIPTION:
URL:https://sagewoodprep.co.za/event/prize-giving-children-to-there-by-530pm/
LOCATION:Ging Farmers Hall
END:VEVENT
BEGIN:VEVENT
DTSTART;TZID=America/Toronto:20191202T073000
DTEND;TZID=America/Toronto:20191202T140000
DTSTAMP:20260423T213328
CREATED:20191015T074043Z
LAST-MODIFIED:20191015T074342Z
UID:1130-1575271800-1575295200@sagewoodprep.co.za
SUMMARY:Prize giving rehearsal  - Children to be dropped at Ging Farmer's Hall
DESCRIPTION:
URL:https://sagewoodprep.co.za/event/prize-giving-rehearsal-children-to-be-dropped-at-ging-farmers-hall/
LOCATION:Ging Farmers Hall
END:VEVENT
BEGIN:VEVENT
DTSTART;TZID=America/Toronto:20191129T080000
DTEND;TZID=America/Toronto:20191129T170000
DTSTAMP:20260423T213328
CREATED:20191015T073847Z
LAST-MODIFIED:20191015T073847Z
UID:1128-1575014400-1575046800@sagewoodprep.co.za
SUMMARY:Grade 7 Farewell
DESCRIPTION:
URL:https://sagewoodprep.co.za/event/grade-7-farewell-2/
END:VEVENT
BEGIN:VEVENT
DTSTART;VALUE=DATE:20191122
DTEND;VALUE=DATE:20191123
DTSTAMP:20260423T213328
CREATED:20191015T073824Z
LAST-MODIFIED:20191015T073824Z
UID:1126-1574380800-1574467199@sagewoodprep.co.za
SUMMARY:Pre-school outing
DESCRIPTION:
URL:https://sagewoodprep.co.za/event/pre-school-outing/
END:VEVENT
BEGIN:VEVENT
DTSTART;VALUE=DATE:20191121
DTEND;VALUE=DATE:20191122
DTSTAMP:20260423T213328
CREATED:20191015T073756Z
LAST-MODIFIED:20191015T073756Z
UID:1124-1574294400-1574380799@sagewoodprep.co.za
SUMMARY:Grade 3 Outing
DESCRIPTION:
URL:https://sagewoodprep.co.za/event/grade-3-outing/
END:VEVENT
BEGIN:VEVENT
DTSTART;VALUE=DATE:20191120
DTEND;VALUE=DATE:20191121
DTSTAMP:20260423T213328
CREATED:20191015T073557Z
LAST-MODIFIED:20191015T073726Z
UID:1121-1574208000-1574294399@sagewoodprep.co.za
SUMMARY:Grade 2 Outing
DESCRIPTION:
URL:https://sagewoodprep.co.za/event/grade-2-outing/
END:VEVENT
END:VCALENDAR