BEGIN:VCALENDAR
VERSION:2.0
PRODID:-//sagewoodprep - ECPv6.15.17.1//NONSGML v1.0//EN
CALSCALE:GREGORIAN
METHOD:PUBLISH
X-ORIGINAL-URL:https://sagewoodprep.co.za
X-WR-CALDESC:Events for sagewoodprep
REFRESH-INTERVAL;VALUE=DURATION:PT1H
X-Robots-Tag:noindex
X-PUBLISHED-TTL:PT1H
BEGIN:VTIMEZONE
TZID:America/Toronto
BEGIN:DAYLIGHT
TZOFFSETFROM:-0500
TZOFFSETTO:-0400
TZNAME:EDT
DTSTART:20180311T070000
END:DAYLIGHT
BEGIN:STANDARD
TZOFFSETFROM:-0400
TZOFFSETTO:-0500
TZNAME:EST
DTSTART:20181104T060000
END:STANDARD
BEGIN:DAYLIGHT
TZOFFSETFROM:-0500
TZOFFSETTO:-0400
TZNAME:EDT
DTSTART:20190310T070000
END:DAYLIGHT
BEGIN:STANDARD
TZOFFSETFROM:-0400
TZOFFSETTO:-0500
TZNAME:EST
DTSTART:20191103T060000
END:STANDARD
BEGIN:DAYLIGHT
TZOFFSETFROM:-0500
TZOFFSETTO:-0400
TZNAME:EDT
DTSTART:20200308T070000
END:DAYLIGHT
BEGIN:STANDARD
TZOFFSETFROM:-0400
TZOFFSETTO:-0500
TZNAME:EST
DTSTART:20201101T060000
END:STANDARD
END:VTIMEZONE
BEGIN:VEVENT
DTSTART;VALUE=DATE:20190715
DTEND;VALUE=DATE:20190716
DTSTAMP:20260424T061927
CREATED:20190417T085127Z
LAST-MODIFIED:20190730T113532Z
UID:1024-1563148800-1563235199@sagewoodprep.co.za
SUMMARY:School opens for term 3
DESCRIPTION:
URL:https://sagewoodprep.co.za/event/school-opens-for-term-3/
END:VEVENT
BEGIN:VEVENT
DTSTART;TZID=America/Toronto:20190621T100000
DTEND;TZID=America/Toronto:20190714T100000
DTSTAMP:20260424T061927
CREATED:20190417T085028Z
LAST-MODIFIED:20190417T085928Z
UID:1022-1561111200-1563098400@sagewoodprep.co.za
SUMMARY:School closes for holidays
DESCRIPTION:
URL:https://sagewoodprep.co.za/event/school-closes-for-holidays/
END:VEVENT
BEGIN:VEVENT
DTSTART;VALUE=DATE:20190617
DTEND;VALUE=DATE:20190618
DTSTAMP:20260424T061927
CREATED:20190417T084852Z
LAST-MODIFIED:20190417T084852Z
UID:1020-1560729600-1560815999@sagewoodprep.co.za
SUMMARY:Public Holiday - Youth Day
DESCRIPTION:
URL:https://sagewoodprep.co.za/event/public-holiday-youth-day/
END:VEVENT
BEGIN:VEVENT
DTSTART;VALUE=DATE:20190606
DTEND;VALUE=DATE:20190607
DTSTAMP:20260424T061927
CREATED:20190417T084813Z
LAST-MODIFIED:20190417T084813Z
UID:1017-1559779200-1559865599@sagewoodprep.co.za
SUMMARY:U7/7/8 Boy/Girl Hockey
DESCRIPTION:
URL:https://sagewoodprep.co.za/event/u7-7-8-boy-girl-hockey/
LOCATION:RBCS
CATEGORIES:Sport
END:VEVENT
BEGIN:VEVENT
DTSTART;VALUE=DATE:20190528
DTEND;VALUE=DATE:20190529
DTSTAMP:20260424T061927
CREATED:20190417T084729Z
LAST-MODIFIED:20190417T084729Z
UID:1015-1559001600-1559087999@sagewoodprep.co.za
SUMMARY:U7/8/9 Boy/Girl Hockey
DESCRIPTION:
URL:https://sagewoodprep.co.za/event/u7-8-9-boy-girl-hockey/
CATEGORIES:Sport
END:VEVENT
BEGIN:VEVENT
DTSTART;VALUE=DATE:20190524
DTEND;VALUE=DATE:20190528
DTSTAMP:20260424T061927
CREATED:20190417T084632Z
LAST-MODIFIED:20190417T085311Z
UID:1013-1558656000-1559001599@sagewoodprep.co.za
SUMMARY:Half term
DESCRIPTION:
URL:https://sagewoodprep.co.za/event/half-term/
END:VEVENT
BEGIN:VEVENT
DTSTART;VALUE=DATE:20190522
DTEND;VALUE=DATE:20190523
DTSTAMP:20260424T061927
CREATED:20190417T084347Z
LAST-MODIFIED:20190417T084557Z
UID:1011-1558483200-1558569599@sagewoodprep.co.za
SUMMARY:U11 Boys Hockey
DESCRIPTION:
URL:https://sagewoodprep.co.za/event/u11-boys-hockey/
CATEGORIES:Sport
END:VEVENT
BEGIN:VEVENT
DTSTART;VALUE=DATE:20190521
DTEND;VALUE=DATE:20190522
DTSTAMP:20260424T061927
CREATED:20190417T084307Z
LAST-MODIFIED:20190417T084307Z
UID:1009-1558396800-1558483199@sagewoodprep.co.za
SUMMARY:Grade 2 outing to the Farm
DESCRIPTION:
URL:https://sagewoodprep.co.za/event/grade-2-outing-to-the-farm/
END:VEVENT
BEGIN:VEVENT
DTSTART;VALUE=DATE:20190516
DTEND;VALUE=DATE:20190518
DTSTAMP:20260424T061927
CREATED:20190417T084225Z
LAST-MODIFIED:20190417T085755Z
UID:1007-1557964800-1558137599@sagewoodprep.co.za
SUMMARY:Grade 3 sleepover at the Farm
DESCRIPTION:
URL:https://sagewoodprep.co.za/event/grade-3-sleepover-at-the-farm/
END:VEVENT
BEGIN:VEVENT
DTSTART;VALUE=DATE:20190515
DTEND;VALUE=DATE:20190516
DTSTAMP:20260424T061927
CREATED:20190417T084202Z
LAST-MODIFIED:20190417T084202Z
UID:1005-1557878400-1557964799@sagewoodprep.co.za
SUMMARY:U13 Boys Hockey
DESCRIPTION:
URL:https://sagewoodprep.co.za/event/u13-boys-hockey/
CATEGORIES:Sport
END:VEVENT
BEGIN:VEVENT
DTSTART;VALUE=DATE:20190514
DTEND;VALUE=DATE:20190515
DTSTAMP:20260424T061927
CREATED:20190417T084107Z
LAST-MODIFIED:20190417T084107Z
UID:1003-1557792000-1557878399@sagewoodprep.co.za
SUMMARY:U11 Netball
DESCRIPTION:
URL:https://sagewoodprep.co.za/event/u11-netball/
LOCATION:Darnall
CATEGORIES:Sport
END:VEVENT
BEGIN:VEVENT
DTSTART;VALUE=DATE:20190514
DTEND;VALUE=DATE:20190515
DTSTAMP:20260424T061927
CREATED:20190417T084007Z
LAST-MODIFIED:20190417T084038Z
UID:1001-1557792000-1557878399@sagewoodprep.co.za
SUMMARY:Grade 1 outing to the Farm
DESCRIPTION:
URL:https://sagewoodprep.co.za/event/grade-1-outing-to-the-farm/
END:VEVENT
BEGIN:VEVENT
DTSTART;VALUE=DATE:20190510
DTEND;VALUE=DATE:20190511
DTSTAMP:20260424T061927
CREATED:20190417T083934Z
LAST-MODIFIED:20190417T083934Z
UID:999-1557446400-1557532799@sagewoodprep.co.za
SUMMARY:School Photos
DESCRIPTION:
URL:https://sagewoodprep.co.za/event/school-photos/
END:VEVENT
BEGIN:VEVENT
DTSTART;VALUE=DATE:20190508
DTEND;VALUE=DATE:20190509
DTSTAMP:20260424T061927
CREATED:20190417T083904Z
LAST-MODIFIED:20190417T083904Z
UID:997-1557273600-1557359999@sagewoodprep.co.za
SUMMARY:Election Day - Holiday
DESCRIPTION:
URL:https://sagewoodprep.co.za/event/election-day-holiday/
END:VEVENT
BEGIN:VEVENT
DTSTART;VALUE=DATE:20190507
DTEND;VALUE=DATE:20190508
DTSTAMP:20260424T061927
CREATED:20190417T083819Z
LAST-MODIFIED:20190417T083819Z
UID:994-1557187200-1557273599@sagewoodprep.co.za
SUMMARY:U13 Netball
DESCRIPTION:
URL:https://sagewoodprep.co.za/event/u13-netball/
LOCATION:Darnall
CATEGORIES:Sport
END:VEVENT
BEGIN:VEVENT
DTSTART;VALUE=DATE:20190426
DTEND;VALUE=DATE:20190427
DTSTAMP:20260424T061927
CREATED:20190417T083733Z
LAST-MODIFIED:20190417T083733Z
UID:992-1556236800-1556323199@sagewoodprep.co.za
SUMMARY:Puppet Show - To be confirmed
DESCRIPTION:
URL:https://sagewoodprep.co.za/event/puppet-show-to-be-confirmed/
CATEGORIES:Events
END:VEVENT
BEGIN:VEVENT
DTSTART;VALUE=DATE:20190425
DTEND;VALUE=DATE:20190426
DTSTAMP:20260424T061927
CREATED:20190417T083647Z
LAST-MODIFIED:20190417T083647Z
UID:989-1556150400-1556236799@sagewoodprep.co.za
SUMMARY:KZN U12/13 Boys Hockey Trials
DESCRIPTION:
URL:https://sagewoodprep.co.za/event/kzn-u12-13-boys-hockey-trials/
LOCATION:Durban
CATEGORIES:Sport
END:VEVENT
BEGIN:VEVENT
DTSTART;VALUE=DATE:20190425
DTEND;VALUE=DATE:20190426
DTSTAMP:20260424T061927
CREATED:20190417T083551Z
LAST-MODIFIED:20190417T083551Z
UID:986-1556150400-1556236799@sagewoodprep.co.za
SUMMARY:Mixed age Netball/Soccer
DESCRIPTION:
URL:https://sagewoodprep.co.za/event/mixed-age-netball-soccer/
LOCATION:John Wesley
CATEGORIES:Sport
END:VEVENT
BEGIN:VEVENT
DTSTART;VALUE=DATE:20190424
DTEND;VALUE=DATE:20190425
DTSTAMP:20260424T061927
CREATED:20190417T083452Z
LAST-MODIFIED:20190417T083452Z
UID:984-1556064000-1556150399@sagewoodprep.co.za
SUMMARY:U9 Boys Hockey
DESCRIPTION:
URL:https://sagewoodprep.co.za/event/u9-boys-hockey/
CATEGORIES:Sport
END:VEVENT
BEGIN:VEVENT
DTSTART;VALUE=DATE:20190419
DTEND;VALUE=DATE:20190423
DTSTAMP:20260424T061927
CREATED:20190417T083404Z
LAST-MODIFIED:20190417T085649Z
UID:982-1555632000-1555977599@sagewoodprep.co.za
SUMMARY:Easter Weekend
DESCRIPTION:
URL:https://sagewoodprep.co.za/event/easter-weekend/
END:VEVENT
BEGIN:VEVENT
DTSTART;VALUE=DATE:20190417
DTEND;VALUE=DATE:20190418
DTSTAMP:20260424T061927
CREATED:20190417T083328Z
LAST-MODIFIED:20190417T083419Z
UID:979-1555459200-1555545599@sagewoodprep.co.za
SUMMARY:Mixed gender hockey
DESCRIPTION:
URL:https://sagewoodprep.co.za/event/mixed-gender-hockey/
LOCATION:Melmouth
CATEGORIES:Sport
END:VEVENT
BEGIN:VEVENT
DTSTART;TZID=America/Toronto:20190413T073000
DTEND;TZID=America/Toronto:20190413T113000
DTSTAMP:20260424T061927
CREATED:20190417T081954Z
LAST-MODIFIED:20190417T081954Z
UID:975-1555140600-1555155000@sagewoodprep.co.za
SUMMARY:Saturday School Gr 1-7 - World Book Day-dress up as book character
DESCRIPTION:
URL:https://sagewoodprep.co.za/event/saturday-school-gr-1-7-world-book-day-dress-up-as-book-character/
CATEGORIES:Events
END:VEVENT
BEGIN:VEVENT
DTSTART;VALUE=DATE:20190411
DTEND;VALUE=DATE:20190412
DTSTAMP:20260424T061927
CREATED:20190417T081857Z
LAST-MODIFIED:20190417T083151Z
UID:973-1554940800-1555027199@sagewoodprep.co.za
SUMMARY:U12/13 Girls Hockey Trails
DESCRIPTION:
URL:https://sagewoodprep.co.za/event/u12-13-girls-hockey-trails/
LOCATION:Grantleigh
CATEGORIES:Sport
END:VEVENT
BEGIN:VEVENT
DTSTART;VALUE=DATE:20190410
DTEND;VALUE=DATE:20190411
DTSTAMP:20260424T061927
CREATED:20190417T081433Z
LAST-MODIFIED:20190417T083113Z
UID:971-1554854400-1554940799@sagewoodprep.co.za
SUMMARY:U12/13 Boys Hockey Trials
DESCRIPTION:
URL:https://sagewoodprep.co.za/event/u12-13-boys-hockey-trials/
LOCATION:Grantleigh
CATEGORIES:Sport
END:VEVENT
BEGIN:VEVENT
DTSTART;TZID=America/Toronto:20190408T073000
DTEND;TZID=America/Toronto:20190621T133000
DTSTAMP:20260424T061927
CREATED:20190417T081226Z
LAST-MODIFIED:20190417T085545Z
UID:969-1554708600-1561123800@sagewoodprep.co.za
SUMMARY:School Opens
DESCRIPTION:
URL:https://sagewoodprep.co.za/event/school-opens/
CATEGORIES:Events
END:VEVENT
BEGIN:VEVENT
DTSTART;VALUE=DATE:20190408
DTEND;VALUE=DATE:20190409
DTSTAMP:20260424T061927
CREATED:20190122T080941Z
LAST-MODIFIED:20190122T080941Z
UID:945-1554681600-1554767999@sagewoodprep.co.za
SUMMARY:School opens 2nd term
DESCRIPTION:
URL:https://sagewoodprep.co.za/event/school-opens-2nd-term/
CATEGORIES:Events
END:VEVENT
BEGIN:VEVENT
DTSTART;VALUE=DATE:20190320
DTEND;VALUE=DATE:20190321
DTSTAMP:20260424T061927
CREATED:20190122T080823Z
LAST-MODIFIED:20190122T081231Z
UID:943-1553040000-1553126399@sagewoodprep.co.za
SUMMARY:School closes
DESCRIPTION:
URL:https://sagewoodprep.co.za/event/school-closes-2/
CATEGORIES:Events
END:VEVENT
BEGIN:VEVENT
DTSTART;TZID=America/Toronto:20190318T160000
DTEND;TZID=America/Toronto:20190318T190000
DTSTAMP:20260424T061927
CREATED:20190122T080636Z
LAST-MODIFIED:20190213T052130Z
UID:939-1552924800-1552935600@sagewoodprep.co.za
SUMMARY:Parent/teacher - Individual meetings with teachers
DESCRIPTION:
URL:https://sagewoodprep.co.za/event/parent-teacher-individual-meetings-with-teachers/
CATEGORIES:Parent's Evening
END:VEVENT
BEGIN:VEVENT
DTSTART;VALUE=DATE:20190314
DTEND;VALUE=DATE:20190315
DTSTAMP:20260424T061927
CREATED:20190122T080727Z
LAST-MODIFIED:20190122T081223Z
UID:941-1552521600-1552607999@sagewoodprep.co.za
SUMMARY:Last day of sport
DESCRIPTION:
URL:https://sagewoodprep.co.za/event/last-day-of-sport/
CATEGORIES:Sport
END:VEVENT
BEGIN:VEVENT
DTSTART;VALUE=DATE:20190305
DTEND;VALUE=DATE:20190306
DTSTAMP:20260424T061927
CREATED:20190122T080246Z
LAST-MODIFIED:20190122T081205Z
UID:935-1551744000-1551830399@sagewoodprep.co.za
SUMMARY:u/12 u/13 south Zone trials - hockey trials
DESCRIPTION:
URL:https://sagewoodprep.co.za/event/u-12-u-13-south-zone-trials-hockey/
LOCATION:Mtunzini Primary School
CATEGORIES:Sport
END:VEVENT
END:VCALENDAR