BEGIN:VCALENDAR
VERSION:2.0
PRODID:-//sagewoodprep - ECPv6.15.17.1//NONSGML v1.0//EN
CALSCALE:GREGORIAN
METHOD:PUBLISH
X-ORIGINAL-URL:https://sagewoodprep.co.za
X-WR-CALDESC:Events for sagewoodprep
REFRESH-INTERVAL;VALUE=DURATION:PT1H
X-Robots-Tag:noindex
X-PUBLISHED-TTL:PT1H
BEGIN:VTIMEZONE
TZID:America/Toronto
BEGIN:DAYLIGHT
TZOFFSETFROM:-0500
TZOFFSETTO:-0400
TZNAME:EDT
DTSTART:20180311T070000
END:DAYLIGHT
BEGIN:STANDARD
TZOFFSETFROM:-0400
TZOFFSETTO:-0500
TZNAME:EST
DTSTART:20181104T060000
END:STANDARD
BEGIN:DAYLIGHT
TZOFFSETFROM:-0500
TZOFFSETTO:-0400
TZNAME:EDT
DTSTART:20190310T070000
END:DAYLIGHT
BEGIN:STANDARD
TZOFFSETFROM:-0400
TZOFFSETTO:-0500
TZNAME:EST
DTSTART:20191103T060000
END:STANDARD
BEGIN:DAYLIGHT
TZOFFSETFROM:-0500
TZOFFSETTO:-0400
TZNAME:EDT
DTSTART:20200308T070000
END:DAYLIGHT
BEGIN:STANDARD
TZOFFSETFROM:-0400
TZOFFSETTO:-0500
TZNAME:EST
DTSTART:20201101T060000
END:STANDARD
BEGIN:DAYLIGHT
TZOFFSETFROM:-0500
TZOFFSETTO:-0400
TZNAME:EDT
DTSTART:20210314T070000
END:DAYLIGHT
BEGIN:STANDARD
TZOFFSETFROM:-0400
TZOFFSETTO:-0500
TZNAME:EST
DTSTART:20211107T060000
END:STANDARD
BEGIN:DAYLIGHT
TZOFFSETFROM:-0500
TZOFFSETTO:-0400
TZNAME:EDT
DTSTART:20220313T070000
END:DAYLIGHT
BEGIN:STANDARD
TZOFFSETFROM:-0400
TZOFFSETTO:-0500
TZNAME:EST
DTSTART:20221106T060000
END:STANDARD
BEGIN:DAYLIGHT
TZOFFSETFROM:-0500
TZOFFSETTO:-0400
TZNAME:EDT
DTSTART:20230312T070000
END:DAYLIGHT
BEGIN:STANDARD
TZOFFSETFROM:-0400
TZOFFSETTO:-0500
TZNAME:EST
DTSTART:20231105T060000
END:STANDARD
END:VTIMEZONE
BEGIN:VEVENT
DTSTART;VALUE=DATE:20220923
DTEND;VALUE=DATE:20220924
DTSTAMP:20260423T172353
CREATED:20220811T125335Z
LAST-MODIFIED:20220811T125335Z
UID:1371-1663891200-1663977599@sagewoodprep.co.za
SUMMARY:Heritage Day Celebrations and Outfits
DESCRIPTION:
URL:https://sagewoodprep.co.za/event/heritage-day-celebrations-and-outfits/
LOCATION:Sagewood
CATEGORIES:Events
END:VEVENT
BEGIN:VEVENT
DTSTART;VALUE=DATE:20220916
DTEND;VALUE=DATE:20220917
DTSTAMP:20260423T172353
CREATED:20220811T125035Z
LAST-MODIFIED:20220811T125431Z
UID:1367-1663286400-1663372799@sagewoodprep.co.za
SUMMARY:Grandparents' Day
DESCRIPTION:
URL:https://sagewoodprep.co.za/event/grandparents-day/
LOCATION:Sagewood
CATEGORIES:Events
END:VEVENT
BEGIN:VEVENT
DTSTART;VALUE=DATE:20220902
DTEND;VALUE=DATE:20220903
DTSTAMP:20260423T172353
CREATED:20220811T124722Z
LAST-MODIFIED:20220811T124722Z
UID:1361-1662076800-1662163199@sagewoodprep.co.za
SUMMARY:Spring Bonnet Day
DESCRIPTION:Civvies & Spring Hat
URL:https://sagewoodprep.co.za/event/spring-bonnet-day/
LOCATION:Sagewood
CATEGORIES:Events
END:VEVENT
BEGIN:VEVENT
DTSTART;VALUE=DATE:20220830
DTEND;VALUE=DATE:20220902
DTSTAMP:20260423T172353
CREATED:20220811T124603Z
LAST-MODIFIED:20220811T124603Z
UID:1359-1661817600-1662076799@sagewoodprep.co.za
SUMMARY:Speech & Drama Festival
DESCRIPTION:
URL:https://sagewoodprep.co.za/event/speech-drama-festival/
LOCATION:Sagewood
CATEGORIES:Events
END:VEVENT
BEGIN:VEVENT
DTSTART;VALUE=DATE:20220617
DTEND;VALUE=DATE:20220618
DTSTAMP:20260423T172353
CREATED:20211208T082342Z
LAST-MODIFIED:20211208T082342Z
UID:1288-1655424000-1655510399@sagewoodprep.co.za
SUMMARY:School Holiday
DESCRIPTION:
URL:https://sagewoodprep.co.za/event/school-holiday/
CATEGORIES:Events
END:VEVENT
BEGIN:VEVENT
DTSTART;VALUE=DATE:20220616
DTEND;VALUE=DATE:20220617
DTSTAMP:20260423T172353
CREATED:20211208T082259Z
LAST-MODIFIED:20211208T082259Z
UID:1286-1655337600-1655423999@sagewoodprep.co.za
SUMMARY:Youth Day - Public Holiday
DESCRIPTION:
URL:https://sagewoodprep.co.za/event/youth-day-public-holiday/
CATEGORIES:Events
END:VEVENT
BEGIN:VEVENT
DTSTART;VALUE=DATE:20220520
DTEND;VALUE=DATE:20220524
DTSTAMP:20260423T172353
CREATED:20211208T082212Z
LAST-MODIFIED:20211208T082212Z
UID:1284-1653004800-1653350399@sagewoodprep.co.za
SUMMARY:Mid-Term Break
DESCRIPTION:
URL:https://sagewoodprep.co.za/event/mid-term-break-3/
CATEGORIES:Events
END:VEVENT
BEGIN:VEVENT
DTSTART;VALUE=DATE:20220427
DTEND;VALUE=DATE:20220428
DTSTAMP:20260423T172353
CREATED:20211208T080954Z
LAST-MODIFIED:20211208T080954Z
UID:1282-1651017600-1651103999@sagewoodprep.co.za
SUMMARY:Freedom Day - Public Holiday
DESCRIPTION:
URL:https://sagewoodprep.co.za/event/freedom-day-public-holiday/
CATEGORIES:Events
END:VEVENT
BEGIN:VEVENT
DTSTART;TZID=America/Toronto:20220422T073000
DTEND;TZID=America/Toronto:20220422T120000
DTSTAMP:20260423T172353
CREATED:20211208T082709Z
LAST-MODIFIED:20220406T084756Z
UID:1292-1650612600-1650628800@sagewoodprep.co.za
SUMMARY:Book Character's Day
DESCRIPTION:Grades 1 – 7  World Book Day
URL:https://sagewoodprep.co.za/event/book-characters-day/
LOCATION:Sagewood
CATEGORIES:Events
END:VEVENT
BEGIN:VEVENT
DTSTART;TZID=America/Toronto:20220419T073000
DTEND;TZID=America/Toronto:20220419T073000
DTSTAMP:20260423T172353
CREATED:20211208T080750Z
LAST-MODIFIED:20220201T063346Z
UID:1278-1650353400-1650353400@sagewoodprep.co.za
SUMMARY:School Opens for Term 2 2022
DESCRIPTION:
URL:https://sagewoodprep.co.za/event/school-opens-for-term-2-2022/
LOCATION:Sagewood
CATEGORIES:Events
END:VEVENT
BEGIN:VEVENT
DTSTART;TZID=America/Toronto:20220325T073000
DTEND;TZID=America/Toronto:20220325T100000
DTSTAMP:20260423T172353
CREATED:20211208T080543Z
LAST-MODIFIED:20211208T080543Z
UID:1276-1648193400-1648202400@sagewoodprep.co.za
SUMMARY:School Closes for Holidays
DESCRIPTION:
URL:https://sagewoodprep.co.za/event/school-closes-for-holidays-3/
LOCATION:Sagewood
CATEGORIES:Events
END:VEVENT
BEGIN:VEVENT
DTSTART;TZID=America/Toronto:20220321T073000
DTEND;TZID=America/Toronto:20220321T133000
DTSTAMP:20260423T172353
CREATED:20211208T080419Z
LAST-MODIFIED:20211208T080419Z
UID:1274-1647847800-1647869400@sagewoodprep.co.za
SUMMARY:Human Rights Day - School Day
DESCRIPTION:Grades RR – 7
URL:https://sagewoodprep.co.za/event/human-rights-day-school-day/
LOCATION:Sagewood
CATEGORIES:Events
END:VEVENT
BEGIN:VEVENT
DTSTART;VALUE=DATE:20220218
DTEND;VALUE=DATE:20220222
DTSTAMP:20260423T172353
CREATED:20211208T080249Z
LAST-MODIFIED:20211208T080249Z
UID:1272-1645142400-1645487999@sagewoodprep.co.za
SUMMARY:Mid-Term Break
DESCRIPTION:
URL:https://sagewoodprep.co.za/event/mid-term-break-2/
CATEGORIES:Events
END:VEVENT
BEGIN:VEVENT
DTSTART;TZID=America/Toronto:20220122T073000
DTEND;TZID=America/Toronto:20220122T121000
DTSTAMP:20260423T172353
CREATED:20211208T075946Z
LAST-MODIFIED:20211208T075946Z
UID:1270-1642836600-1642853400@sagewoodprep.co.za
SUMMARY:Saturday School
DESCRIPTION:Grades 2 – 7
URL:https://sagewoodprep.co.za/event/saturday-school/
CATEGORIES:Events
END:VEVENT
BEGIN:VEVENT
DTSTART;TZID=America/Toronto:20220119T073000
DTEND;TZID=America/Toronto:20220119T133000
DTSTAMP:20260423T172353
CREATED:20211208T075815Z
LAST-MODIFIED:20211208T075815Z
UID:1268-1642577400-1642599000@sagewoodprep.co.za
SUMMARY:School Opens for Term 1 2022
DESCRIPTION:
URL:https://sagewoodprep.co.za/event/school-opens-for-term-1-2022/
LOCATION:Sagewood
CATEGORIES:Events
END:VEVENT
BEGIN:VEVENT
DTSTART;TZID=America/Toronto:20220117T080000
DTEND;TZID=America/Toronto:20220117T120000
DTSTAMP:20260423T172353
CREATED:20211208T075719Z
LAST-MODIFIED:20211208T075719Z
UID:1266-1642406400-1642420800@sagewoodprep.co.za
SUMMARY:Teachers Return
DESCRIPTION:
URL:https://sagewoodprep.co.za/event/teachers-return/
LOCATION:Sagewood
CATEGORIES:Events
END:VEVENT
BEGIN:VEVENT
DTSTART;TZID=America/Toronto:20220117T080000
DTEND;TZID=America/Toronto:20220117T120000
DTSTAMP:20260423T172353
CREATED:20211208T075622Z
LAST-MODIFIED:20211208T075622Z
UID:1264-1642406400-1642420800@sagewoodprep.co.za
SUMMARY:Office Open for Uniforms
DESCRIPTION:
URL:https://sagewoodprep.co.za/event/office-open-for-uniforms/
LOCATION:Sagewood
CATEGORIES:Events
END:VEVENT
BEGIN:VEVENT
DTSTART;TZID=America/Toronto:20220112T080000
DTEND;TZID=America/Toronto:20220112T120000
DTSTAMP:20260423T172353
CREATED:20211208T075411Z
LAST-MODIFIED:20211208T075411Z
UID:1262-1641974400-1641988800@sagewoodprep.co.za
SUMMARY:Admin Office Opens
DESCRIPTION:
URL:https://sagewoodprep.co.za/event/admin-office-opens/
LOCATION:Sagewood
CATEGORIES:Events
END:VEVENT
BEGIN:VEVENT
DTSTART;VALUE=DATE:20201113
DTEND;VALUE=DATE:20201114
DTSTAMP:20260423T172353
CREATED:20201007T070034Z
LAST-MODIFIED:20201007T070034Z
UID:1223-1605225600-1605311999@sagewoodprep.co.za
SUMMARY:Exams End
DESCRIPTION:
URL:https://sagewoodprep.co.za/event/exams-end-2/
LOCATION:Sagewood
CATEGORIES:Events
END:VEVENT
BEGIN:VEVENT
DTSTART;VALUE=DATE:20201009
DTEND;VALUE=DATE:20201010
DTSTAMP:20260423T172353
CREATED:20201007T065816Z
LAST-MODIFIED:20201007T065816Z
UID:1213-1602201600-1602287999@sagewoodprep.co.za
SUMMARY:Crazy Hair Day
DESCRIPTION:
URL:https://sagewoodprep.co.za/event/crazy-hair-day/
LOCATION:Sagewood
CATEGORIES:Events
END:VEVENT
BEGIN:VEVENT
DTSTART;VALUE=DATE:20190920
DTEND;VALUE=DATE:20190921
DTSTAMP:20260423T172353
CREATED:20190730T113017Z
LAST-MODIFIED:20190730T113017Z
UID:1077-1568937600-1569023999@sagewoodprep.co.za
SUMMARY:School closes for holidays
DESCRIPTION:
URL:https://sagewoodprep.co.za/event/school-closes-for-holidays-2/
CATEGORIES:Events
END:VEVENT
BEGIN:VEVENT
DTSTART;VALUE=DATE:20190913
DTEND;VALUE=DATE:20190914
DTSTAMP:20260423T172353
CREATED:20190730T112755Z
LAST-MODIFIED:20190730T112755Z
UID:1073-1568332800-1568419199@sagewoodprep.co.za
SUMMARY:Grade 6/7 Market Day
DESCRIPTION:
URL:https://sagewoodprep.co.za/event/grade-6-7-market-day/
LOCATION:Sagewood
CATEGORIES:Events
END:VEVENT
BEGIN:VEVENT
DTSTART;VALUE=DATE:20190909
DTEND;VALUE=DATE:20190910
DTSTAMP:20260423T172353
CREATED:20190730T112640Z
LAST-MODIFIED:20190730T112640Z
UID:1071-1567987200-1568073599@sagewoodprep.co.za
SUMMARY:Senior Camp
DESCRIPTION:
URL:https://sagewoodprep.co.za/event/senior-camp/
CATEGORIES:Events
END:VEVENT
BEGIN:VEVENT
DTSTART;VALUE=DATE:20190906
DTEND;VALUE=DATE:20190907
DTSTAMP:20260423T172353
CREATED:20190730T112547Z
LAST-MODIFIED:20190730T112547Z
UID:1069-1567728000-1567814399@sagewoodprep.co.za
SUMMARY:Interhouse Athletics
DESCRIPTION:
URL:https://sagewoodprep.co.za/event/interhouse-athletics/
LOCATION:Sagewood
CATEGORIES:Events,Sport
END:VEVENT
BEGIN:VEVENT
DTSTART;VALUE=DATE:20190904
DTEND;VALUE=DATE:20190905
DTSTAMP:20260423T172353
CREATED:20190730T102109Z
LAST-MODIFIED:20190730T102109Z
UID:1066-1567555200-1567641599@sagewoodprep.co.za
SUMMARY:U13 Soccer Tournament
DESCRIPTION:
URL:https://sagewoodprep.co.za/event/u13-soccer-tournament/
LOCATION:Mtunzini Primary School
CATEGORIES:Events
END:VEVENT
BEGIN:VEVENT
DTSTART;VALUE=DATE:20190903
DTEND;VALUE=DATE:20190904
DTSTAMP:20260423T172353
CREATED:20190730T102034Z
LAST-MODIFIED:20190730T102034Z
UID:1064-1567468800-1567555199@sagewoodprep.co.za
SUMMARY:Poetry Evening
DESCRIPTION:
URL:https://sagewoodprep.co.za/event/poetry-evening/
CATEGORIES:Events
END:VEVENT
BEGIN:VEVENT
DTSTART;VALUE=DATE:20190831
DTEND;VALUE=DATE:20190901
DTSTAMP:20260423T172353
CREATED:20190730T102002Z
LAST-MODIFIED:20190730T102002Z
UID:1062-1567209600-1567295999@sagewoodprep.co.za
SUMMARY:Sagewood Soccer Festival
DESCRIPTION:Adult social/league soccer tournament for fundraising
URL:https://sagewoodprep.co.za/event/sagewood-soccer-festival/
LOCATION:Sagewood
CATEGORIES:Events,Sport
END:VEVENT
BEGIN:VEVENT
DTSTART;VALUE=DATE:20190827
DTEND;VALUE=DATE:20190828
DTSTAMP:20260423T172353
CREATED:20190730T101551Z
LAST-MODIFIED:20190730T101551Z
UID:1060-1566864000-1566950399@sagewoodprep.co.za
SUMMARY:Relay Cross Country
DESCRIPTION:
URL:https://sagewoodprep.co.za/event/relay-cross-country/
LOCATION:Felixton
CATEGORIES:Events,Sport
END:VEVENT
BEGIN:VEVENT
DTSTART;VALUE=DATE:20190827
DTEND;VALUE=DATE:20190828
DTSTAMP:20260423T172353
CREATED:20190730T101514Z
LAST-MODIFIED:20190730T101514Z
UID:1058-1566864000-1566950399@sagewoodprep.co.za
SUMMARY:Speech and Drama Festival
DESCRIPTION:
URL:https://sagewoodprep.co.za/event/speech-and-drama-festival/
LOCATION:Sagewood
CATEGORIES:Events
END:VEVENT
BEGIN:VEVENT
DTSTART;VALUE=DATE:20190821
DTEND;VALUE=DATE:20190822
DTSTAMP:20260423T172353
CREATED:20190730T101439Z
LAST-MODIFIED:20190730T101439Z
UID:1056-1566345600-1566431999@sagewoodprep.co.za
SUMMARY:U11 Soccer Tournament
DESCRIPTION:
URL:https://sagewoodprep.co.za/event/u11-soccer-tournament/
LOCATION:Mtunzini Primary School
CATEGORIES:Events,Sport
END:VEVENT
END:VCALENDAR